BEGIN:VCALENDAR
VERSION:2.0
PRODID:-//artspring - Der Stadtbezirk wird Galerie - ECPv6.15.20//NONSGML v1.0//EN
CALSCALE:GREGORIAN
METHOD:PUBLISH
X-WR-CALNAME:artspring - Der Stadtbezirk wird Galerie
X-ORIGINAL-URL:https://www.artspring.berlin
X-WR-CALDESC:Veranstaltungen für artspring - Der Stadtbezirk wird Galerie
REFRESH-INTERVAL;VALUE=DURATION:PT1H
X-Robots-Tag:noindex
X-PUBLISHED-TTL:PT1H
BEGIN:VTIMEZONE
TZID:Europe/Berlin
BEGIN:DAYLIGHT
TZOFFSETFROM:+0100
TZOFFSETTO:+0200
TZNAME:CEST
DTSTART:20220327T010000
END:DAYLIGHT
BEGIN:STANDARD
TZOFFSETFROM:+0200
TZOFFSETTO:+0100
TZNAME:CET
DTSTART:20221030T010000
END:STANDARD
BEGIN:DAYLIGHT
TZOFFSETFROM:+0100
TZOFFSETTO:+0200
TZNAME:CEST
DTSTART:20230326T010000
END:DAYLIGHT
BEGIN:STANDARD
TZOFFSETFROM:+0200
TZOFFSETTO:+0100
TZNAME:CET
DTSTART:20231029T010000
END:STANDARD
BEGIN:DAYLIGHT
TZOFFSETFROM:+0100
TZOFFSETTO:+0200
TZNAME:CEST
DTSTART:20240331T010000
END:DAYLIGHT
BEGIN:STANDARD
TZOFFSETFROM:+0200
TZOFFSETTO:+0100
TZNAME:CET
DTSTART:20241027T010000
END:STANDARD
END:VTIMEZONE
BEGIN:VEVENT
DTSTART;TZID=Europe/Berlin:20230514T140000
DTEND;TZID=Europe/Berlin:20230514T140000
DTSTAMP:20260419T162918
CREATED:20230425T091546Z
LAST-MODIFIED:20230509T172855Z
UID:10000925-1684072800-1684072800@www.artspring.berlin
SUMMARY:artspring Lesungen - Part 2
DESCRIPTION:Die Lesungen\, kuratiert von Uta Ackermann\, sind seit drei Jahren fester Bestandteil von artspring. Diesmal gibt es an vier Abenden zehn Premieren: neun Autorinnen des WOW & FANCE Conscious Writing Labs lesen aus ihren Romanprojekten\, Philippe Despeysses liest Gedichte auf Französisch\, Deutsch und Portugiesisch. \nPhilippe Despeysses: Chaque pas est un mot/Jeder Schritt ist ein Wort/Cada passo é uma palavra. Gedichte auf Französisch\, Deutsch und Portugiesisch
URL:https://www.artspring.berlin/veranstaltung/artspring-lesungen-part-2/
LOCATION:Kulturkapellen | Verwalterhaus\, Prenzlauer Allee 1\, 10405 Berlin
CATEGORIES:Bühne & Lesungen
ATTACH;FMTTYPE=image/jpeg:https://www.artspring.berlin/wp-content/uploads/2023/04/2022-05-16-07-31-55-144-e1682413827554.jpg
ORGANIZER;CN="artspring berlin":MAILTO:anmeldung@artspring.berlin
END:VEVENT
END:VCALENDAR