BEGIN:VCALENDAR
VERSION:2.0
PRODID:-//artspring - Der Stadtbezirk wird Galerie - ECPv6.15.20//NONSGML v1.0//EN
CALSCALE:GREGORIAN
METHOD:PUBLISH
X-WR-CALNAME:artspring - Der Stadtbezirk wird Galerie
X-ORIGINAL-URL:https://www.artspring.berlin
X-WR-CALDESC:Veranstaltungen für artspring - Der Stadtbezirk wird Galerie
REFRESH-INTERVAL;VALUE=DURATION:PT1H
X-Robots-Tag:noindex
X-PUBLISHED-TTL:PT1H
BEGIN:VTIMEZONE
TZID:Europe/Berlin
BEGIN:DAYLIGHT
TZOFFSETFROM:+0100
TZOFFSETTO:+0200
TZNAME:CEST
DTSTART:20230326T010000
END:DAYLIGHT
BEGIN:STANDARD
TZOFFSETFROM:+0200
TZOFFSETTO:+0100
TZNAME:CET
DTSTART:20231029T010000
END:STANDARD
BEGIN:DAYLIGHT
TZOFFSETFROM:+0100
TZOFFSETTO:+0200
TZNAME:CEST
DTSTART:20240331T010000
END:DAYLIGHT
BEGIN:STANDARD
TZOFFSETFROM:+0200
TZOFFSETTO:+0100
TZNAME:CET
DTSTART:20241027T010000
END:STANDARD
BEGIN:DAYLIGHT
TZOFFSETFROM:+0100
TZOFFSETTO:+0200
TZNAME:CEST
DTSTART:20250330T010000
END:DAYLIGHT
BEGIN:STANDARD
TZOFFSETFROM:+0200
TZOFFSETTO:+0100
TZNAME:CET
DTSTART:20251026T010000
END:STANDARD
END:VTIMEZONE
BEGIN:VEVENT
DTSTART;TZID=Europe/Berlin:20240525T160000
DTEND;TZID=Europe/Berlin:20240525T210000
DTSTAMP:20260419T151629
CREATED:20240427T085708Z
LAST-MODIFIED:20240427T085923Z
UID:10001130-1716652800-1716670800@www.artspring.berlin
SUMMARY:Offenes Atelier Ivan Ivanov
DESCRIPTION:Mein Atelier öffnet seine Türen und bietet einen Einblick in die Welt des Bühnen- und Kostümbildes. Im Mittelpunkt meiner Arbeit stehen die Erzählung und die visuelle Darstellung von Geschichten\, die die menschliche Psyche erforschen und in die Tiefen der menschlichen Erfahrung eindringen. Es werden eine Auswahl an Bühnenmodellen\, Kostümentwürfen und Fotos aus aktuellen sowie vergangenen Musiktheaterproduktionen präsentiert\, ergänzt durch Zeichnungen\, Gemälden und weiteren Kunstobjekten aus meinem kreativen Prozess.
URL:https://www.artspring.berlin/veranstaltung/offenes-atelier-ivan-ivanov/
LOCATION:Atelier Ivan Ivanov\, Streustraße 4\, 13086 Berlin
CATEGORIES:Ausstellung,Offene Ateliers
ATTACH;FMTTYPE=image/jpeg:https://www.artspring.berlin/wp-content/uploads/2024/04/Ivanov_Ivan_Veranstaltung-scaled.jpg
END:VEVENT
END:VCALENDAR