BEGIN:VCALENDAR
VERSION:2.0
PRODID:-//artspring - Der Stadtbezirk wird Galerie - ECPv6.15.20//NONSGML v1.0//EN
CALSCALE:GREGORIAN
METHOD:PUBLISH
X-ORIGINAL-URL:https://www.artspring.berlin
X-WR-CALDESC:Veranstaltungen für artspring - Der Stadtbezirk wird Galerie
REFRESH-INTERVAL;VALUE=DURATION:PT1H
X-Robots-Tag:noindex
X-PUBLISHED-TTL:PT1H
BEGIN:VTIMEZONE
TZID:Europe/Berlin
BEGIN:DAYLIGHT
TZOFFSETFROM:+0100
TZOFFSETTO:+0200
TZNAME:CEST
DTSTART:20220327T010000
END:DAYLIGHT
BEGIN:STANDARD
TZOFFSETFROM:+0200
TZOFFSETTO:+0100
TZNAME:CET
DTSTART:20221030T010000
END:STANDARD
BEGIN:DAYLIGHT
TZOFFSETFROM:+0100
TZOFFSETTO:+0200
TZNAME:CEST
DTSTART:20230326T010000
END:DAYLIGHT
BEGIN:STANDARD
TZOFFSETFROM:+0200
TZOFFSETTO:+0100
TZNAME:CET
DTSTART:20231029T010000
END:STANDARD
BEGIN:DAYLIGHT
TZOFFSETFROM:+0100
TZOFFSETTO:+0200
TZNAME:CEST
DTSTART:20240331T010000
END:DAYLIGHT
BEGIN:STANDARD
TZOFFSETFROM:+0200
TZOFFSETTO:+0100
TZNAME:CET
DTSTART:20241027T010000
END:STANDARD
END:VTIMEZONE
BEGIN:VEVENT
DTSTART;TZID=Europe/Berlin:20230601T180000
DTEND;TZID=Europe/Berlin:20230601T220000
DTSTAMP:20260419T231239
CREATED:20230420T113417Z
LAST-MODIFIED:20230427T085648Z
UID:10000881-1685642400-1685656800@www.artspring.berlin
SUMMARY:11. Kunstsalon am Weißen See / artspring 2023
DESCRIPTION:Herzliche Einladung zum 11. Kunstsalon am Weißen See der Künstlerinnen Karin Grote\, Skadi Engeln und Ella von Berg. \nKarin Grote nimmt das diesjährige Thema des artspring-Festivals „hell“ auf und\ntreibt mutig mit schwarzer Tusche das Licht-Schatten-Spiel auf die Spitze.\nSkadi Engeln zeigt ihre aktuellen Druckgrafiken Giraffen im Berry 22 und Badende 23\nund die Bildhauerin Ella von Berg lädt zum Teetrinken ein aus eigens entworfenen Porzellanschalen. \nWir freuen uns auf den diesjährigen Special Act: Die Sängerin Thelma Malar wird\nSongs aus ihrem aktuellen Album performen.
URL:https://www.artspring.berlin/veranstaltung/11-kunstsalon-am-weissen-see-artspring-2023/
LOCATION:Ateliers: Ella von Berg – Porzellan und Karin Grote – Malerei\, Große Seestraße\, 17\, 13086 Ladengeschäft
ATTACH;FMTTYPE=image/jpeg:https://www.artspring.berlin/wp-content/uploads/2023/04/Grote_Karin_Veranstaltung-1.jpg
ORGANIZER;CN="Kunstsalon am Wei%C3%9Fen See":MAILTO:11. Kunstsalon am Weißen See / artspring 2023
END:VEVENT
END:VCALENDAR