BEGIN:VCALENDAR
VERSION:2.0
PRODID:-//artspring - Der Stadtbezirk wird Galerie - ECPv6.15.20//NONSGML v1.0//EN
CALSCALE:GREGORIAN
METHOD:PUBLISH
X-ORIGINAL-URL:https://www.artspring.berlin
X-WR-CALDESC:Veranstaltungen für artspring - Der Stadtbezirk wird Galerie
REFRESH-INTERVAL;VALUE=DURATION:PT1H
X-Robots-Tag:noindex
X-PUBLISHED-TTL:PT1H
BEGIN:VTIMEZONE
TZID:Europe/Berlin
BEGIN:DAYLIGHT
TZOFFSETFROM:+0100
TZOFFSETTO:+0200
TZNAME:CEST
DTSTART:20250330T010000
END:DAYLIGHT
BEGIN:STANDARD
TZOFFSETFROM:+0200
TZOFFSETTO:+0100
TZNAME:CET
DTSTART:20251026T010000
END:STANDARD
BEGIN:DAYLIGHT
TZOFFSETFROM:+0100
TZOFFSETTO:+0200
TZNAME:CEST
DTSTART:20260329T010000
END:DAYLIGHT
BEGIN:STANDARD
TZOFFSETFROM:+0200
TZOFFSETTO:+0100
TZNAME:CET
DTSTART:20261025T010000
END:STANDARD
BEGIN:DAYLIGHT
TZOFFSETFROM:+0100
TZOFFSETTO:+0200
TZNAME:CEST
DTSTART:20270328T010000
END:DAYLIGHT
BEGIN:STANDARD
TZOFFSETFROM:+0200
TZOFFSETTO:+0100
TZNAME:CET
DTSTART:20271031T010000
END:STANDARD
END:VTIMEZONE
BEGIN:VEVENT
DTSTART;TZID=Europe/Berlin:20260530T120000
DTEND;TZID=Europe/Berlin:20260531T190000
DTSTAMP:20260419T160309
CREATED:20260329T183635Z
LAST-MODIFIED:20260329T183635Z
UID:10003233-1780142400-1780254000@www.artspring.berlin
SUMMARY:rücksinnen erdenken
DESCRIPTION:Hinterhäuser\, Höfe und Garten der Kastanienallee 12 sind Spielraum der Gedanken für unsere Besuchenden. \nEinige der Bewohnenden und Gäste zeigen ihre Kunst in verlassenen Wohnungen\, die derzeit vor der Sanierung stehen\, als auch im Außenraum. Zurücksinnend erdenken wir uns neue Wege\, halten inne\, schreiten und tanzen mit Euch in den Sommer! \nWie in den vergangenen Jahren öffnen wir die Pforte zugunsten bunten Treibens und entspannter Gespräche über Kunst\, Gelesenes und Musik. \nTäter des Tages sind Käthe Wenzel\, Patricio Troncoso- Reinbach\, Ute Haarkötter\, Karen Koltermann\, Reinhold Gottwald\, André Werner\, Jenny Löbert\, Ralph Bageritz\, Iris Jahnke\, Alex Gheorghiu\, Max Hartmann\, Sabine Balzer\, Mirco Grave\, Holger Mayer\, Chantal Labinski\, Kai Pohl\, Rotraut Pohl\, Friedrich Rünger\, Markus Volmer\, Alexander Jabs u.a. \nAls vor circa einundeinhalb Jahrzehnten der zuletzt noch durch unsere Tordurchfahrt frei zugängliche Hirschhof final aus dem Gedächtnis der Behörden geklagt und in Hauseigentum zugehörige Privatparzellen unterteilt wurde\, umgab die K12 dank der damaligen Hausbesitzerin zunächst einige Jahre Schlaf in der Mietsache sicherer Ruh\, gefolgt von einer rasanten Fahrt\, schlussendlich als Teil der Selbstbaugenossenschaft\, durch das Berliner Wohnungspolitikspektakel. \nZwischen Nichtmehr und Nochnicht feiern wir mit Euch und lassen uns gemeinsam nochmals den Wind der Erinnerung um die Nase wehen im kostbaren Jetzt. Die Ausstellenden\, Lesenden und Musizierenden\, zumeist innigst mit der Stadtgeschichte verwoben\, begehen diesen Zustand mit Leichtigkeit. Einige von Ihnen haben Jahrzehnte für Sichtbarkeit vieler künstlerischen Positionen gewirkt und kommen nun in dem Ansinnen selbst zu zeigen. \nGern gesehen sind Spenden für Speisen und Getränke zur Unterstützung der Sturmopfer in Madagaskar. \nDie K12 ist ein kinderfreundlicher Ort.
URL:https://www.artspring.berlin/veranstaltung/ruecksinnen-erdenken/
LOCATION:K12\, Kastanienallee\, 12\, 10435
CATEGORIES:Ausstellung
ATTACH;FMTTYPE=image/jpeg:https://www.artspring.berlin/wp-content/uploads/2026/03/ruecksinnen-erdenken_jabs_zander_16zu9.jpg
END:VEVENT
END:VCALENDAR