BEGIN:VCALENDAR
VERSION:2.0
PRODID:-//artspring - Der Stadtbezirk wird Galerie - ECPv6.15.20//NONSGML v1.0//EN
CALSCALE:GREGORIAN
METHOD:PUBLISH
X-WR-CALNAME:artspring - Der Stadtbezirk wird Galerie
X-ORIGINAL-URL:https://www.artspring.berlin
X-WR-CALDESC:Veranstaltungen für artspring - Der Stadtbezirk wird Galerie
REFRESH-INTERVAL;VALUE=DURATION:PT1H
X-Robots-Tag:noindex
X-PUBLISHED-TTL:PT1H
BEGIN:VTIMEZONE
TZID:Europe/Berlin
BEGIN:DAYLIGHT
TZOFFSETFROM:+0100
TZOFFSETTO:+0200
TZNAME:CEST
DTSTART:20250330T010000
END:DAYLIGHT
BEGIN:STANDARD
TZOFFSETFROM:+0200
TZOFFSETTO:+0100
TZNAME:CET
DTSTART:20251026T010000
END:STANDARD
BEGIN:DAYLIGHT
TZOFFSETFROM:+0100
TZOFFSETTO:+0200
TZNAME:CEST
DTSTART:20260329T010000
END:DAYLIGHT
BEGIN:STANDARD
TZOFFSETFROM:+0200
TZOFFSETTO:+0100
TZNAME:CET
DTSTART:20261025T010000
END:STANDARD
BEGIN:DAYLIGHT
TZOFFSETFROM:+0100
TZOFFSETTO:+0200
TZNAME:CEST
DTSTART:20270328T010000
END:DAYLIGHT
BEGIN:STANDARD
TZOFFSETFROM:+0200
TZOFFSETTO:+0100
TZNAME:CET
DTSTART:20271031T010000
END:STANDARD
END:VTIMEZONE
BEGIN:VEVENT
DTSTART;TZID=Europe/Berlin:20260917T130000
DTEND;TZID=Europe/Berlin:20260917T190000
DTSTAMP:20260420T054429
CREATED:20260413T115336Z
LAST-MODIFIED:20260413T120230Z
UID:10003401-1789650000-1789671600@www.artspring.berlin
SUMMARY:Ausstellung: kein Ruder war nicht dran
DESCRIPTION:In der Rathaus Galerie präsentiert artspring zum Jubiläum Pankower Kunstschaffende\, die dem Netzwerk auf besondere Weise verbunden sind und beispielhaft für seine vielfältigen Projekte stehen. Zu sehen sind Arbeiten von Anja Nolte\, Thomas Möller\, Simone Ommert\, Matthias Daentschel\, Erdmute Blach und Melanie Völker\, ergänzt durch Atelier-Porträts und persönliche Texte. \n  \n  \n19.05. Vernissage 18 Uh\nAusstellung 30.04.-30.09.
URL:https://www.artspring.berlin/veranstaltung/ausstellung-kein-ruder-war-nicht-dran/2026-09-17/
LOCATION:Rathaus Pankow\, Breite Str. 24a-26\, 13187 Berlin\, Pankow
CATEGORIES:Ausstellung
ATTACH;FMTTYPE=image/jpeg:https://www.artspring.berlin/wp-content/uploads/2026/04/ung-1-1.jpg
ORGANIZER;CN="artspring berlin":MAILTO:anmeldung@artspring.berlin
END:VEVENT
BEGIN:VEVENT
DTSTART;TZID=Europe/Berlin:20260918T130000
DTEND;TZID=Europe/Berlin:20260918T190000
DTSTAMP:20260420T054429
CREATED:20260413T115336Z
LAST-MODIFIED:20260413T120230Z
UID:10003402-1789736400-1789758000@www.artspring.berlin
SUMMARY:Ausstellung: kein Ruder war nicht dran
DESCRIPTION:In der Rathaus Galerie präsentiert artspring zum Jubiläum Pankower Kunstschaffende\, die dem Netzwerk auf besondere Weise verbunden sind und beispielhaft für seine vielfältigen Projekte stehen. Zu sehen sind Arbeiten von Anja Nolte\, Thomas Möller\, Simone Ommert\, Matthias Daentschel\, Erdmute Blach und Melanie Völker\, ergänzt durch Atelier-Porträts und persönliche Texte. \n  \n  \n19.05. Vernissage 18 Uh\nAusstellung 30.04.-30.09.
URL:https://www.artspring.berlin/veranstaltung/ausstellung-kein-ruder-war-nicht-dran/2026-09-18/
LOCATION:Rathaus Pankow\, Breite Str. 24a-26\, 13187 Berlin\, Pankow
CATEGORIES:Ausstellung
ATTACH;FMTTYPE=image/jpeg:https://www.artspring.berlin/wp-content/uploads/2026/04/ung-1-1.jpg
ORGANIZER;CN="artspring berlin":MAILTO:anmeldung@artspring.berlin
END:VEVENT
BEGIN:VEVENT
DTSTART;TZID=Europe/Berlin:20260919T130000
DTEND;TZID=Europe/Berlin:20260919T190000
DTSTAMP:20260420T054429
CREATED:20260413T115336Z
LAST-MODIFIED:20260413T120230Z
UID:10003403-1789822800-1789844400@www.artspring.berlin
SUMMARY:Ausstellung: kein Ruder war nicht dran
DESCRIPTION:In der Rathaus Galerie präsentiert artspring zum Jubiläum Pankower Kunstschaffende\, die dem Netzwerk auf besondere Weise verbunden sind und beispielhaft für seine vielfältigen Projekte stehen. Zu sehen sind Arbeiten von Anja Nolte\, Thomas Möller\, Simone Ommert\, Matthias Daentschel\, Erdmute Blach und Melanie Völker\, ergänzt durch Atelier-Porträts und persönliche Texte. \n  \n  \n19.05. Vernissage 18 Uh\nAusstellung 30.04.-30.09.
URL:https://www.artspring.berlin/veranstaltung/ausstellung-kein-ruder-war-nicht-dran/2026-09-19/
LOCATION:Rathaus Pankow\, Breite Str. 24a-26\, 13187 Berlin\, Pankow
CATEGORIES:Ausstellung
ATTACH;FMTTYPE=image/jpeg:https://www.artspring.berlin/wp-content/uploads/2026/04/ung-1-1.jpg
ORGANIZER;CN="artspring berlin":MAILTO:anmeldung@artspring.berlin
END:VEVENT
BEGIN:VEVENT
DTSTART;TZID=Europe/Berlin:20260920T130000
DTEND;TZID=Europe/Berlin:20260920T190000
DTSTAMP:20260420T054429
CREATED:20260413T115336Z
LAST-MODIFIED:20260413T120230Z
UID:10003404-1789909200-1789930800@www.artspring.berlin
SUMMARY:Ausstellung: kein Ruder war nicht dran
DESCRIPTION:In der Rathaus Galerie präsentiert artspring zum Jubiläum Pankower Kunstschaffende\, die dem Netzwerk auf besondere Weise verbunden sind und beispielhaft für seine vielfältigen Projekte stehen. Zu sehen sind Arbeiten von Anja Nolte\, Thomas Möller\, Simone Ommert\, Matthias Daentschel\, Erdmute Blach und Melanie Völker\, ergänzt durch Atelier-Porträts und persönliche Texte. \n  \n  \n19.05. Vernissage 18 Uh\nAusstellung 30.04.-30.09.
URL:https://www.artspring.berlin/veranstaltung/ausstellung-kein-ruder-war-nicht-dran/2026-09-20/
LOCATION:Rathaus Pankow\, Breite Str. 24a-26\, 13187 Berlin\, Pankow
CATEGORIES:Ausstellung
ATTACH;FMTTYPE=image/jpeg:https://www.artspring.berlin/wp-content/uploads/2026/04/ung-1-1.jpg
ORGANIZER;CN="artspring berlin":MAILTO:anmeldung@artspring.berlin
END:VEVENT
BEGIN:VEVENT
DTSTART;TZID=Europe/Berlin:20260922T130000
DTEND;TZID=Europe/Berlin:20260922T190000
DTSTAMP:20260420T054429
CREATED:20260413T115336Z
LAST-MODIFIED:20260413T120230Z
UID:10003405-1790082000-1790103600@www.artspring.berlin
SUMMARY:Ausstellung: kein Ruder war nicht dran
DESCRIPTION:In der Rathaus Galerie präsentiert artspring zum Jubiläum Pankower Kunstschaffende\, die dem Netzwerk auf besondere Weise verbunden sind und beispielhaft für seine vielfältigen Projekte stehen. Zu sehen sind Arbeiten von Anja Nolte\, Thomas Möller\, Simone Ommert\, Matthias Daentschel\, Erdmute Blach und Melanie Völker\, ergänzt durch Atelier-Porträts und persönliche Texte. \n  \n  \n19.05. Vernissage 18 Uh\nAusstellung 30.04.-30.09.
URL:https://www.artspring.berlin/veranstaltung/ausstellung-kein-ruder-war-nicht-dran/2026-09-22/
LOCATION:Rathaus Pankow\, Breite Str. 24a-26\, 13187 Berlin\, Pankow
CATEGORIES:Ausstellung
ATTACH;FMTTYPE=image/jpeg:https://www.artspring.berlin/wp-content/uploads/2026/04/ung-1-1.jpg
ORGANIZER;CN="artspring berlin":MAILTO:anmeldung@artspring.berlin
END:VEVENT
BEGIN:VEVENT
DTSTART;TZID=Europe/Berlin:20260923T130000
DTEND;TZID=Europe/Berlin:20260923T190000
DTSTAMP:20260420T054429
CREATED:20260413T115336Z
LAST-MODIFIED:20260413T120230Z
UID:10003406-1790168400-1790190000@www.artspring.berlin
SUMMARY:Ausstellung: kein Ruder war nicht dran
DESCRIPTION:In der Rathaus Galerie präsentiert artspring zum Jubiläum Pankower Kunstschaffende\, die dem Netzwerk auf besondere Weise verbunden sind und beispielhaft für seine vielfältigen Projekte stehen. Zu sehen sind Arbeiten von Anja Nolte\, Thomas Möller\, Simone Ommert\, Matthias Daentschel\, Erdmute Blach und Melanie Völker\, ergänzt durch Atelier-Porträts und persönliche Texte. \n  \n  \n19.05. Vernissage 18 Uh\nAusstellung 30.04.-30.09.
URL:https://www.artspring.berlin/veranstaltung/ausstellung-kein-ruder-war-nicht-dran/2026-09-23/
LOCATION:Rathaus Pankow\, Breite Str. 24a-26\, 13187 Berlin\, Pankow
CATEGORIES:Ausstellung
ATTACH;FMTTYPE=image/jpeg:https://www.artspring.berlin/wp-content/uploads/2026/04/ung-1-1.jpg
ORGANIZER;CN="artspring berlin":MAILTO:anmeldung@artspring.berlin
END:VEVENT
BEGIN:VEVENT
DTSTART;TZID=Europe/Berlin:20260924T130000
DTEND;TZID=Europe/Berlin:20260924T190000
DTSTAMP:20260420T054429
CREATED:20260413T115336Z
LAST-MODIFIED:20260413T120230Z
UID:10003407-1790254800-1790276400@www.artspring.berlin
SUMMARY:Ausstellung: kein Ruder war nicht dran
DESCRIPTION:In der Rathaus Galerie präsentiert artspring zum Jubiläum Pankower Kunstschaffende\, die dem Netzwerk auf besondere Weise verbunden sind und beispielhaft für seine vielfältigen Projekte stehen. Zu sehen sind Arbeiten von Anja Nolte\, Thomas Möller\, Simone Ommert\, Matthias Daentschel\, Erdmute Blach und Melanie Völker\, ergänzt durch Atelier-Porträts und persönliche Texte. \n  \n  \n19.05. Vernissage 18 Uh\nAusstellung 30.04.-30.09.
URL:https://www.artspring.berlin/veranstaltung/ausstellung-kein-ruder-war-nicht-dran/2026-09-24/
LOCATION:Rathaus Pankow\, Breite Str. 24a-26\, 13187 Berlin\, Pankow
CATEGORIES:Ausstellung
ATTACH;FMTTYPE=image/jpeg:https://www.artspring.berlin/wp-content/uploads/2026/04/ung-1-1.jpg
ORGANIZER;CN="artspring berlin":MAILTO:anmeldung@artspring.berlin
END:VEVENT
BEGIN:VEVENT
DTSTART;TZID=Europe/Berlin:20260925T130000
DTEND;TZID=Europe/Berlin:20260925T190000
DTSTAMP:20260420T054429
CREATED:20260413T115336Z
LAST-MODIFIED:20260413T120230Z
UID:10003408-1790341200-1790362800@www.artspring.berlin
SUMMARY:Ausstellung: kein Ruder war nicht dran
DESCRIPTION:In der Rathaus Galerie präsentiert artspring zum Jubiläum Pankower Kunstschaffende\, die dem Netzwerk auf besondere Weise verbunden sind und beispielhaft für seine vielfältigen Projekte stehen. Zu sehen sind Arbeiten von Anja Nolte\, Thomas Möller\, Simone Ommert\, Matthias Daentschel\, Erdmute Blach und Melanie Völker\, ergänzt durch Atelier-Porträts und persönliche Texte. \n  \n  \n19.05. Vernissage 18 Uh\nAusstellung 30.04.-30.09.
URL:https://www.artspring.berlin/veranstaltung/ausstellung-kein-ruder-war-nicht-dran/2026-09-25/
LOCATION:Rathaus Pankow\, Breite Str. 24a-26\, 13187 Berlin\, Pankow
CATEGORIES:Ausstellung
ATTACH;FMTTYPE=image/jpeg:https://www.artspring.berlin/wp-content/uploads/2026/04/ung-1-1.jpg
ORGANIZER;CN="artspring berlin":MAILTO:anmeldung@artspring.berlin
END:VEVENT
BEGIN:VEVENT
DTSTART;TZID=Europe/Berlin:20260926T130000
DTEND;TZID=Europe/Berlin:20260926T190000
DTSTAMP:20260420T054429
CREATED:20260413T115336Z
LAST-MODIFIED:20260413T120230Z
UID:10003409-1790427600-1790449200@www.artspring.berlin
SUMMARY:Ausstellung: kein Ruder war nicht dran
DESCRIPTION:In der Rathaus Galerie präsentiert artspring zum Jubiläum Pankower Kunstschaffende\, die dem Netzwerk auf besondere Weise verbunden sind und beispielhaft für seine vielfältigen Projekte stehen. Zu sehen sind Arbeiten von Anja Nolte\, Thomas Möller\, Simone Ommert\, Matthias Daentschel\, Erdmute Blach und Melanie Völker\, ergänzt durch Atelier-Porträts und persönliche Texte. \n  \n  \n19.05. Vernissage 18 Uh\nAusstellung 30.04.-30.09.
URL:https://www.artspring.berlin/veranstaltung/ausstellung-kein-ruder-war-nicht-dran/2026-09-26/
LOCATION:Rathaus Pankow\, Breite Str. 24a-26\, 13187 Berlin\, Pankow
CATEGORIES:Ausstellung
ATTACH;FMTTYPE=image/jpeg:https://www.artspring.berlin/wp-content/uploads/2026/04/ung-1-1.jpg
ORGANIZER;CN="artspring berlin":MAILTO:anmeldung@artspring.berlin
END:VEVENT
BEGIN:VEVENT
DTSTART;TZID=Europe/Berlin:20260927T130000
DTEND;TZID=Europe/Berlin:20260927T190000
DTSTAMP:20260420T054429
CREATED:20260413T115336Z
LAST-MODIFIED:20260413T120230Z
UID:10003410-1790514000-1790535600@www.artspring.berlin
SUMMARY:Ausstellung: kein Ruder war nicht dran
DESCRIPTION:In der Rathaus Galerie präsentiert artspring zum Jubiläum Pankower Kunstschaffende\, die dem Netzwerk auf besondere Weise verbunden sind und beispielhaft für seine vielfältigen Projekte stehen. Zu sehen sind Arbeiten von Anja Nolte\, Thomas Möller\, Simone Ommert\, Matthias Daentschel\, Erdmute Blach und Melanie Völker\, ergänzt durch Atelier-Porträts und persönliche Texte. \n  \n  \n19.05. Vernissage 18 Uh\nAusstellung 30.04.-30.09.
URL:https://www.artspring.berlin/veranstaltung/ausstellung-kein-ruder-war-nicht-dran/2026-09-27/
LOCATION:Rathaus Pankow\, Breite Str. 24a-26\, 13187 Berlin\, Pankow
CATEGORIES:Ausstellung
ATTACH;FMTTYPE=image/jpeg:https://www.artspring.berlin/wp-content/uploads/2026/04/ung-1-1.jpg
ORGANIZER;CN="artspring berlin":MAILTO:anmeldung@artspring.berlin
END:VEVENT
BEGIN:VEVENT
DTSTART;TZID=Europe/Berlin:20260929T130000
DTEND;TZID=Europe/Berlin:20260929T190000
DTSTAMP:20260420T054429
CREATED:20260413T115336Z
LAST-MODIFIED:20260413T120230Z
UID:10003411-1790686800-1790708400@www.artspring.berlin
SUMMARY:Ausstellung: kein Ruder war nicht dran
DESCRIPTION:In der Rathaus Galerie präsentiert artspring zum Jubiläum Pankower Kunstschaffende\, die dem Netzwerk auf besondere Weise verbunden sind und beispielhaft für seine vielfältigen Projekte stehen. Zu sehen sind Arbeiten von Anja Nolte\, Thomas Möller\, Simone Ommert\, Matthias Daentschel\, Erdmute Blach und Melanie Völker\, ergänzt durch Atelier-Porträts und persönliche Texte. \n  \n  \n19.05. Vernissage 18 Uh\nAusstellung 30.04.-30.09.
URL:https://www.artspring.berlin/veranstaltung/ausstellung-kein-ruder-war-nicht-dran/2026-09-29/
LOCATION:Rathaus Pankow\, Breite Str. 24a-26\, 13187 Berlin\, Pankow
CATEGORIES:Ausstellung
ATTACH;FMTTYPE=image/jpeg:https://www.artspring.berlin/wp-content/uploads/2026/04/ung-1-1.jpg
ORGANIZER;CN="artspring berlin":MAILTO:anmeldung@artspring.berlin
END:VEVENT
BEGIN:VEVENT
DTSTART;TZID=Europe/Berlin:20260930T130000
DTEND;TZID=Europe/Berlin:20260930T190000
DTSTAMP:20260420T054429
CREATED:20260413T115336Z
LAST-MODIFIED:20260413T120230Z
UID:10003412-1790773200-1790794800@www.artspring.berlin
SUMMARY:Ausstellung: kein Ruder war nicht dran
DESCRIPTION:In der Rathaus Galerie präsentiert artspring zum Jubiläum Pankower Kunstschaffende\, die dem Netzwerk auf besondere Weise verbunden sind und beispielhaft für seine vielfältigen Projekte stehen. Zu sehen sind Arbeiten von Anja Nolte\, Thomas Möller\, Simone Ommert\, Matthias Daentschel\, Erdmute Blach und Melanie Völker\, ergänzt durch Atelier-Porträts und persönliche Texte. \n  \n  \n19.05. Vernissage 18 Uh\nAusstellung 30.04.-30.09.
URL:https://www.artspring.berlin/veranstaltung/ausstellung-kein-ruder-war-nicht-dran/2026-09-30/
LOCATION:Rathaus Pankow\, Breite Str. 24a-26\, 13187 Berlin\, Pankow
CATEGORIES:Ausstellung
ATTACH;FMTTYPE=image/jpeg:https://www.artspring.berlin/wp-content/uploads/2026/04/ung-1-1.jpg
ORGANIZER;CN="artspring berlin":MAILTO:anmeldung@artspring.berlin
END:VEVENT
END:VCALENDAR